BEGIN:VCALENDAR
VERSION:2.0
PRODID:-//McLane Middleton - ECPv6.15.18//NONSGML v1.0//EN
CALSCALE:GREGORIAN
METHOD:PUBLISH
X-ORIGINAL-URL:https://www.mclane.com
X-WR-CALDESC:Events for McLane Middleton
REFRESH-INTERVAL;VALUE=DURATION:PT1H
X-Robots-Tag:noindex
X-PUBLISHED-TTL:PT1H
BEGIN:VTIMEZONE
TZID:America/New_York
BEGIN:DAYLIGHT
TZOFFSETFROM:-0500
TZOFFSETTO:-0400
TZNAME:EDT
DTSTART:20210314T070000
END:DAYLIGHT
BEGIN:STANDARD
TZOFFSETFROM:-0400
TZOFFSETTO:-0500
TZNAME:EST
DTSTART:20211107T060000
END:STANDARD
BEGIN:DAYLIGHT
TZOFFSETFROM:-0500
TZOFFSETTO:-0400
TZNAME:EDT
DTSTART:20220313T070000
END:DAYLIGHT
BEGIN:STANDARD
TZOFFSETFROM:-0400
TZOFFSETTO:-0500
TZNAME:EST
DTSTART:20221106T060000
END:STANDARD
BEGIN:DAYLIGHT
TZOFFSETFROM:-0500
TZOFFSETTO:-0400
TZNAME:EDT
DTSTART:20230312T070000
END:DAYLIGHT
BEGIN:STANDARD
TZOFFSETFROM:-0400
TZOFFSETTO:-0500
TZNAME:EST
DTSTART:20231105T060000
END:STANDARD
END:VTIMEZONE
BEGIN:VEVENT
DTSTART;TZID=America/New_York:20220818T073000
DTEND;TZID=America/New_York:20220818T090000
DTSTAMP:20260420T234936
CREATED:20220801T150913Z
LAST-MODIFIED:20220801T154914Z
UID:12927-1660807800-1660813200@www.mclane.com
SUMMARY:Affordable Housing Development: How It Happens (or not)\, Where It Happens (or not)\, Who Needs It\, and Why It Matters to Business & Community
DESCRIPTION:The housing crisis in Massachusetts is impacting the economy\, families\, the elderly\, individuals\, small and large businesses alike. The Baker Administration has made housing a top priority for the state\, seeking to create more than 100\,000 housing units over the next 5 years. This will require the participation of all cities and towns in the Commonwealth. \n\nJoin Andrew DeFranza from Harborlight and Laura Shufelt from the Massachusetts Housing Partnership\, two industry experts\, for a lively and informative discussion on the current housing crisis\, how we got here\, how it can be addressed\, and why we should. \nHarborlight is a Massachusetts certified Community Development Corporation which develops\, manages\, and advocates for quality\, service-enriched\, affordable homes for elders\, families\, disabled individuals\, essential workers\, and those who have experienced homelessness. Harborlight’s mission is to create and maintain properties that are affordable and inclusive\, doing so collaboratively with communities to cultivate just\, equitable and sustainable housing opportunities. \nThe Massachusetts Housing Partnership is a statewide public nonprofit affordable housing organization that works in concert with the Governor and the state Department of Housing and Community Development (DHCD) to help increase the supply of affordable housing in Massachusetts.\n  \n\nProgram\nRegistration/Networking: 7:30 a.m.\nProgram: 8:00 to 9:00 a.m. \nCost\nThis event is being offered as a free education session. \nLocation\nMcLane Middleton’s Woburn Office\n300 TradeCenter\, Suite 7600\nWoburn\, MA 01801 \n \nSpeakers \n \nAndrew DeFranza\nExecutive Director\, Harborlight Community Partners\n\nAndrew DeFranza is the Executive Director of Harborlight Community Partners since 2007. Andrew describes himself as a “short\, working class\, Italian guy from New Jersey with an accidental white-collar education.” It was in New Jersey\, while working the second shift in an Atlantic City men’s homeless shelter\, that he witnessed the very real\, pressing issues related to homelessness and its harsh challenges. Andrew boldly addresses in public forums the barriers to housing creation\, racial equity and access\, and actively engages in dialogues with communities to address housing needs and goals.\n  \n \nLaura Shufelt\nDirector of Community Assistance\, Massachusetts Housing Partnership\n\nLaura Shufelt came to the Massachusetts Housing Partnership in 2011 after working in affordable housing finance\, development and technical assistance on Cape Cod for 20 years. She provides technical assistance to municipalities\, housing authorities\, and non-profit developers regarding affordable housing development and policy. Her specialty is assisting communities and local housing authorities to dispose of their surplus land for the creation of affordable housing. Laura is active in local town government and non-profit boards.
URL:https://www.mclane.com/event/affordable-housing-development-how-it-happens-or-not-where-it-happens-or-not-who-needs-it-and-why-it-matters-to-business-community/
LOCATION:McLane Middleton’s Woburn Office\, 300 TradeCenter\, Suite 7600\, Woburn\, MA\, 01801
CATEGORIES:Woburn Seminar
ATTACH;FMTTYPE=image/jpeg:https://www.mclane.com/wp-content/uploads/News-Featured-Image-Seminars.jpg
ORGANIZER;CN="Marketing":MAILTO:marketing@mclane.com
END:VEVENT
END:VCALENDAR