BEGIN:VCALENDAR
VERSION:2.0
PRODID:-//McLane Middleton - ECPv6.15.18//NONSGML v1.0//EN
CALSCALE:GREGORIAN
METHOD:PUBLISH
X-WR-CALNAME:McLane Middleton
X-ORIGINAL-URL:https://www.mclane.com
X-WR-CALDESC:Events for McLane Middleton
REFRESH-INTERVAL;VALUE=DURATION:PT1H
X-Robots-Tag:noindex
X-PUBLISHED-TTL:PT1H
BEGIN:VTIMEZONE
TZID:America/New_York
BEGIN:DAYLIGHT
TZOFFSETFROM:-0500
TZOFFSETTO:-0400
TZNAME:EDT
DTSTART:20210314T070000
END:DAYLIGHT
BEGIN:STANDARD
TZOFFSETFROM:-0400
TZOFFSETTO:-0500
TZNAME:EST
DTSTART:20211107T060000
END:STANDARD
BEGIN:DAYLIGHT
TZOFFSETFROM:-0500
TZOFFSETTO:-0400
TZNAME:EDT
DTSTART:20220313T070000
END:DAYLIGHT
BEGIN:STANDARD
TZOFFSETFROM:-0400
TZOFFSETTO:-0500
TZNAME:EST
DTSTART:20221106T060000
END:STANDARD
BEGIN:DAYLIGHT
TZOFFSETFROM:-0500
TZOFFSETTO:-0400
TZNAME:EDT
DTSTART:20230312T070000
END:DAYLIGHT
BEGIN:STANDARD
TZOFFSETFROM:-0400
TZOFFSETTO:-0500
TZNAME:EST
DTSTART:20231105T060000
END:STANDARD
END:VTIMEZONE
BEGIN:VEVENT
DTSTART;TZID=America/New_York:20220929T073000
DTEND;TZID=America/New_York:20220929T090000
DTSTAMP:20260421T012558
CREATED:20220912T151157Z
LAST-MODIFIED:20220912T153122Z
UID:13074-1664436600-1664442000@www.mclane.com
SUMMARY:Modifying Irrevocable Trusts
DESCRIPTION:As circumstances\, laws\, and goals change over time\, it can become necessary to modify an irrevocable trust. Estate planners and trustees can utilize various options to modify irrevocable trusts\, including decanting\, non-judicial settlement agreements\, trustee modifications\, and Probate Court modifications. Join attorneys Ryan J. Swartz and Katie E. Hislop as they discuss how and when to modify irrevocable trusts\, the advantages and disadvantages\, and the typical circumstances under which irrevocable trusts are modified.\n  \nProgram\n\nRegistration/Networking: 7:30 a.m.\nProgram: 8:00 to 9:00 a.m. \nCost\nThis event is being offered as a free education session. \nLocation\nMcLane Middleton’s Woburn Office\n300 TradeCenter\, Suite 7600\nWoburn\, MA 01801 \n\n\n\n\nSpeakers\n\n\nRyan J. Swartz\nDirector and Chair\, Trusts & Estates Department\, McLane Middleton \nRyan advises individuals and families regarding various estate planning matters\, including estate\, gift\, income and generation skipping transfer tax strategies. He advises fiduciaries in conservatorship\, probate and trust administration matters. Ryan also counsels individuals and business owners regarding business succession planning and various asset protection techniques\, including limited liability companies and asset protection trusts. \n\nKatie E. Hislop\nAssociate\, Trusts & Estates Department\, McLane Middleton \nKatie represents clients in a variety of areas including estate planning\, tax planning\, fiduciary matters\, and estate and trust administration. Katie received a dual Bachelor of Arts in International Affairs and Political Science with concentrations in International Politics and Latin American Studies from The George Washington University.  She received her J.D.\, cum laude\, from The Catholic University of America\, Columbus School of Law.
URL:https://www.mclane.com/event/modifying-irrevocable-trusts/
LOCATION:McLane Middleton’s Woburn Office\, 300 TradeCenter\, Suite 7600\, Woburn\, MA\, 01801
CATEGORIES:Woburn Seminar
ATTACH;FMTTYPE=image/jpeg:https://www.mclane.com/wp-content/uploads/News-Featured-Image-Seminars.jpg
ORGANIZER;CN="Marketing":MAILTO:marketing@mclane.com
END:VEVENT
END:VCALENDAR