BEGIN:VCALENDAR
VERSION:2.0
PRODID:-//McLane Middleton - ECPv6.15.18//NONSGML v1.0//EN
CALSCALE:GREGORIAN
METHOD:PUBLISH
X-ORIGINAL-URL:https://www.mclane.com
X-WR-CALDESC:Events for McLane Middleton
REFRESH-INTERVAL;VALUE=DURATION:PT1H
X-Robots-Tag:noindex
X-PUBLISHED-TTL:PT1H
BEGIN:VTIMEZONE
TZID:America/New_York
BEGIN:DAYLIGHT
TZOFFSETFROM:-0500
TZOFFSETTO:-0400
TZNAME:EDT
DTSTART:20220313T070000
END:DAYLIGHT
BEGIN:STANDARD
TZOFFSETFROM:-0400
TZOFFSETTO:-0500
TZNAME:EST
DTSTART:20221106T060000
END:STANDARD
BEGIN:DAYLIGHT
TZOFFSETFROM:-0500
TZOFFSETTO:-0400
TZNAME:EDT
DTSTART:20230312T070000
END:DAYLIGHT
BEGIN:STANDARD
TZOFFSETFROM:-0400
TZOFFSETTO:-0500
TZNAME:EST
DTSTART:20231105T060000
END:STANDARD
BEGIN:DAYLIGHT
TZOFFSETFROM:-0500
TZOFFSETTO:-0400
TZNAME:EDT
DTSTART:20240310T070000
END:DAYLIGHT
BEGIN:STANDARD
TZOFFSETFROM:-0400
TZOFFSETTO:-0500
TZNAME:EST
DTSTART:20241103T060000
END:STANDARD
END:VTIMEZONE
BEGIN:VEVENT
DTSTART;TZID=America/New_York:20230216T073000
DTEND;TZID=America/New_York:20230216T090000
DTSTAMP:20260420T203648
CREATED:20230120T170636Z
LAST-MODIFIED:20230214T170531Z
UID:13757-1676532600-1676538000@www.mclane.com
SUMMARY:2023 Real Estate Market Outlook
DESCRIPTION:With a fluctuating real estate market the past few years\, what does 2023 have in store?\n\nJoin us for lively panel discussion with industry experts forecasting this year’s market outlook. Topics will include:\n\nNational and Global Markets\nCommercial and Residential Real Estate locally\nImpact of increased construction costs and supply chain delays\nRapid rise of interest rates\nRemote work policies and space requirements\nRepurposing from commercial to residential\nEffects of technology\nAnd many more!
URL:https://www.mclane.com/event/2023-real-estate-market-outlook/
LOCATION:McLane Middleton’s Woburn Office\, 300 TradeCenter\, Suite 7600\, Woburn\, MA\, 01801
CATEGORIES:Woburn Seminar
ATTACH;FMTTYPE=image/jpeg:https://www.mclane.com/wp-content/uploads/News-Featured-Image-Seminars.jpg
ORGANIZER;CN="Marketing":MAILTO:marketing@mclane.com
END:VEVENT
END:VCALENDAR