BEGIN:VCALENDAR
VERSION:2.0
PRODID:-//McLane Middleton - ECPv6.15.18//NONSGML v1.0//EN
CALSCALE:GREGORIAN
METHOD:PUBLISH
X-ORIGINAL-URL:https://www.mclane.com
X-WR-CALDESC:Events for McLane Middleton
REFRESH-INTERVAL;VALUE=DURATION:PT1H
X-Robots-Tag:noindex
X-PUBLISHED-TTL:PT1H
BEGIN:VTIMEZONE
TZID:America/New_York
BEGIN:DAYLIGHT
TZOFFSETFROM:-0500
TZOFFSETTO:-0400
TZNAME:EDT
DTSTART:20220313T070000
END:DAYLIGHT
BEGIN:STANDARD
TZOFFSETFROM:-0400
TZOFFSETTO:-0500
TZNAME:EST
DTSTART:20221106T060000
END:STANDARD
BEGIN:DAYLIGHT
TZOFFSETFROM:-0500
TZOFFSETTO:-0400
TZNAME:EDT
DTSTART:20230312T070000
END:DAYLIGHT
BEGIN:STANDARD
TZOFFSETFROM:-0400
TZOFFSETTO:-0500
TZNAME:EST
DTSTART:20231105T060000
END:STANDARD
BEGIN:DAYLIGHT
TZOFFSETFROM:-0500
TZOFFSETTO:-0400
TZNAME:EDT
DTSTART:20240310T070000
END:DAYLIGHT
BEGIN:STANDARD
TZOFFSETFROM:-0400
TZOFFSETTO:-0500
TZNAME:EST
DTSTART:20241103T060000
END:STANDARD
END:VTIMEZONE
BEGIN:VEVENT
DTSTART;TZID=America/New_York:20230222T073000
DTEND;TZID=America/New_York:20230222T090000
DTSTAMP:20260420T203638
CREATED:20230130T141623Z
LAST-MODIFIED:20230203T151132Z
UID:13826-1677051000-1677056400@www.mclane.com
SUMMARY:Hot Topics in Business Immigration
DESCRIPTION:McLane Middleton attorney Shiva Karimi discusses hot topics in business immigration. Topics to include: \nH-1B FY2024 Lottery Overview\n\n\n\nWho to apply for: Recent foreign graduates\, employees outside the U.S.\, etc.\nRegistration process for “H-1B lottery”.\nPlanning for alternatives to H-1B if not selected\n\n\n\nIn addition\, if you have any employees who will be graduating or have recently graduated and are authorized to work pursuant to Optional Practical Training (OPT) or STEM OPT\, now is the time to begin strategizing for this year’s H-1B cap registration. H-1B registration is right around the corner (early March) and only occurs once a year. Employers should review the employment authorization status of their current and potential employees and identify any individuals who may benefit from entering H-1B registration. \n\n\nHot topics in business immigration are always changing\, so the topics above are just a sampling of what may be discussed. The program will cover the latest news as of the presentation date.
URL:https://www.mclane.com/event/hot-topics-in-business-immigration/
LOCATION:McLane Middleton’s Woburn Office\, 300 TradeCenter\, Suite 7600\, Woburn\, MA\, 01801
CATEGORIES:Woburn Seminar
ATTACH;FMTTYPE=image/jpeg:https://www.mclane.com/wp-content/uploads/News-Featured-Image-Seminars.jpg
ORGANIZER;CN="Marketing":MAILTO:marketing@mclane.com
END:VEVENT
END:VCALENDAR