BEGIN:VCALENDAR
VERSION:2.0
PRODID:-//McLane Middleton - ECPv6.15.18//NONSGML v1.0//EN
CALSCALE:GREGORIAN
METHOD:PUBLISH
X-WR-CALNAME:McLane Middleton
X-ORIGINAL-URL:https://www.mclane.com
X-WR-CALDESC:Events for McLane Middleton
REFRESH-INTERVAL;VALUE=DURATION:PT1H
X-Robots-Tag:noindex
X-PUBLISHED-TTL:PT1H
BEGIN:VTIMEZONE
TZID:America/New_York
BEGIN:DAYLIGHT
TZOFFSETFROM:-0500
TZOFFSETTO:-0400
TZNAME:EDT
DTSTART:20210314T070000
END:DAYLIGHT
BEGIN:STANDARD
TZOFFSETFROM:-0400
TZOFFSETTO:-0500
TZNAME:EST
DTSTART:20211107T060000
END:STANDARD
BEGIN:DAYLIGHT
TZOFFSETFROM:-0500
TZOFFSETTO:-0400
TZNAME:EDT
DTSTART:20220313T070000
END:DAYLIGHT
BEGIN:STANDARD
TZOFFSETFROM:-0400
TZOFFSETTO:-0500
TZNAME:EST
DTSTART:20221106T060000
END:STANDARD
BEGIN:DAYLIGHT
TZOFFSETFROM:-0500
TZOFFSETTO:-0400
TZNAME:EDT
DTSTART:20230312T070000
END:DAYLIGHT
BEGIN:STANDARD
TZOFFSETFROM:-0400
TZOFFSETTO:-0500
TZNAME:EST
DTSTART:20231105T060000
END:STANDARD
END:VTIMEZONE
BEGIN:VEVENT
DTSTART;TZID=America/New_York:20220524T080000
DTEND;TZID=America/New_York:20220524T170000
DTSTAMP:20260422T080107
CREATED:20220419T182509Z
LAST-MODIFIED:20220519T174118Z
UID:12551-1653379200-1653411600@www.mclane.com
SUMMARY:2022 New Hampshire Employment Law Update
DESCRIPTION:After a 2+ year hiatus due to COVID-19\, we are excited to announce our 2022 New Hampshire Employment Law Update will take place on May 24\, 2022 at the Castleton Banquet & Conference Center in Windham\, NH. \nJoin our employment attorneys in discussing the latest trends in employment law as we prepare you to manage your workforce in the coming year. \nAgenda \n8:00 a.m.\nRegistration/Welcome \n8:30 a.m.\nNews You Can Use\nPresenters: Adam M. Hamel\, Jennifer L. Parent\, John E. Rich\, Jr. \n9:45 a.m.\nEffectively Responding To and Handling Employee Accommodation Requests\nPresenters: Linda S. Johnson and Brian B. Garrett \n10:30 a.m.\nBreak \n10:45 a.m.\nRomantic Relationships in the Workplace\nPresenter: Margaret “Peg” O’Brien \n11:15 a.m.\nWorkplace Investigations: Understanding When They Are Necessary and Demystifying the Process\nPresenter: Susan E. Schorr \n12:15 p.m.\nLunch \n1:15 p.m.\nRestrictive Covenants\nPresenter: Adam M. Hamel \n1:45 p.m.\nHR’s Role in Cybersecurity\nPresenter: Cameron G. Shilling \n2:30 p.m.\nBreak \n2:45 p.m.\nWage and Hour Update\nPresenter: Margaret “Peg” O’Brien \n3:15 p.m.\nUnderstanding and Preventing Retaliation\nPresenters: Linda S. Johnson and Jennifer L. Parent \n4:30 p.m.\nQ&A/Wrap-Up/Reception \nFor full session descriptions\, click here. \n  \nProgram\nRegistration: 8:00 a.m.\nProgram: 8:30 a.m. to 5:00 p.m. \n  \nCredits\nMcLane Middleton will be offering 6.5 HRCI and SHRM credit hours for this event. \n  \nCost\nRegistration is $150 per person\, and includes continental breakfast\, lunch\, networking reception\, electronic copies of materials\, and credits. \nPayment can be made via credit card and is fully refundable until Friday\, May 20\, 2022 at 5:00 p.m. ET. \n  \nLocation\nCastleton Banquet & Conference Center\n58 Enterprise Drive\nWindham\, NH 03087
URL:https://www.mclane.com/event/2022-new-hampshire-employment-law-update/
LOCATION:Castleton Banquet & Conference Center\, 58 Enterprise Drive\, Windham\, NH\, 03087
CATEGORIES:Employment Conference
ATTACH;FMTTYPE=image/jpeg:https://www.mclane.com/wp-content/uploads/News-Featured-Image-Seminars.jpg
ORGANIZER;CN="Marketing":MAILTO:marketing@mclane.com
END:VEVENT
END:VCALENDAR