BEGIN:VCALENDAR
VERSION:2.0
PRODID:-//McLane Middleton - ECPv6.15.18//NONSGML v1.0//EN
CALSCALE:GREGORIAN
METHOD:PUBLISH
X-ORIGINAL-URL:https://www.mclane.com
X-WR-CALDESC:Events for McLane Middleton
REFRESH-INTERVAL;VALUE=DURATION:PT1H
X-Robots-Tag:noindex
X-PUBLISHED-TTL:PT1H
BEGIN:VTIMEZONE
TZID:America/New_York
BEGIN:DAYLIGHT
TZOFFSETFROM:-0500
TZOFFSETTO:-0400
TZNAME:EDT
DTSTART:20230312T070000
END:DAYLIGHT
BEGIN:STANDARD
TZOFFSETFROM:-0400
TZOFFSETTO:-0500
TZNAME:EST
DTSTART:20231105T060000
END:STANDARD
BEGIN:DAYLIGHT
TZOFFSETFROM:-0500
TZOFFSETTO:-0400
TZNAME:EDT
DTSTART:20240310T070000
END:DAYLIGHT
BEGIN:STANDARD
TZOFFSETFROM:-0400
TZOFFSETTO:-0500
TZNAME:EST
DTSTART:20241103T060000
END:STANDARD
BEGIN:DAYLIGHT
TZOFFSETFROM:-0500
TZOFFSETTO:-0400
TZNAME:EDT
DTSTART:20250309T070000
END:DAYLIGHT
BEGIN:STANDARD
TZOFFSETFROM:-0400
TZOFFSETTO:-0500
TZNAME:EST
DTSTART:20251102T060000
END:STANDARD
END:VTIMEZONE
BEGIN:VEVENT
DTSTART;TZID=America/New_York:20240516T073000
DTEND;TZID=America/New_York:20240516T090000
DTSTAMP:20260421T110355
CREATED:20240423T161234Z
LAST-MODIFIED:20240423T161234Z
UID:15919-1715844600-1715850000@www.mclane.com
SUMMARY:Advanced Estate Planning Techniques: SLATs 101 & 102
DESCRIPTION:Spousal Lifetime Access Trusts (SLATs) are one of the most popular advanced estate planning techniques due to the flexibility they provide to families. In light of the sunset of the lifetime exemption at the end of 2025\, we expect to see many clients creating a SLAT over the next year and a half. Join attorneys William V.A. Zorn and Caitlin G. McCurdy as they highlight the key features of a SLAT\, compare different funding strategies\, and alternative structures\, as well as discuss the overall advantages\, disadvantages and potential risks.
URL:https://www.mclane.com/event/advanced-estate-planning-techniques-slats-101-102/
LOCATION:Manchester Office\, 900 Elm Street\, Manchester\, NH\, 03101\, United States
CATEGORIES:Manchester Seminar
ATTACH;FMTTYPE=image/jpeg:https://www.mclane.com/wp-content/uploads/News-Featured-Image-Seminars.jpg
ORGANIZER;CN="Marketing":MAILTO:marketing@mclane.com
END:VEVENT
END:VCALENDAR