BEGIN:VCALENDAR
VERSION:2.0
PRODID:-//McLane Middleton - ECPv6.15.18//NONSGML v1.0//EN
CALSCALE:GREGORIAN
METHOD:PUBLISH
X-WR-CALNAME:McLane Middleton
X-ORIGINAL-URL:https://www.mclane.com
X-WR-CALDESC:Events for McLane Middleton
REFRESH-INTERVAL;VALUE=DURATION:PT1H
X-Robots-Tag:noindex
X-PUBLISHED-TTL:PT1H
BEGIN:VTIMEZONE
TZID:America/New_York
BEGIN:DAYLIGHT
TZOFFSETFROM:-0500
TZOFFSETTO:-0400
TZNAME:EDT
DTSTART:20210314T070000
END:DAYLIGHT
BEGIN:STANDARD
TZOFFSETFROM:-0400
TZOFFSETTO:-0500
TZNAME:EST
DTSTART:20211107T060000
END:STANDARD
BEGIN:DAYLIGHT
TZOFFSETFROM:-0500
TZOFFSETTO:-0400
TZNAME:EDT
DTSTART:20220313T070000
END:DAYLIGHT
BEGIN:STANDARD
TZOFFSETFROM:-0400
TZOFFSETTO:-0500
TZNAME:EST
DTSTART:20221106T060000
END:STANDARD
BEGIN:DAYLIGHT
TZOFFSETFROM:-0500
TZOFFSETTO:-0400
TZNAME:EDT
DTSTART:20230312T070000
END:DAYLIGHT
BEGIN:STANDARD
TZOFFSETFROM:-0400
TZOFFSETTO:-0500
TZNAME:EST
DTSTART:20231105T060000
END:STANDARD
END:VTIMEZONE
BEGIN:VEVENT
DTSTART;TZID=America/New_York:20220504T130000
DTEND;TZID=America/New_York:20220504T140000
DTSTAMP:20260421T031104
CREATED:20220419T140452Z
LAST-MODIFIED:20220419T140452Z
UID:12543-1651669200-1651672800@www.mclane.com
SUMMARY:Student Handbooks: Essential Updates for the New School Year
DESCRIPTION:Graduation will be here before you know it—a new beginning for students\, and a signal to administrators that it is time to focus on summer projects\, including updating the student handbook for the 2022-2023 school year. \nTake a deep breath and join McLane Middleton’s Brian Garrett and Susan Schorr as they provide guidance on how to tackle this project. Based on what they have seen during the current school year\, independent schools will want to make sure policies addressing communicable illness and vaccines (not just for Covid)\, student discipline\, sexual conduct and consent\, gender identity (documentation\, dress code\, living arrangements for boarding schools)\, harassment and cyber-misconduct\, just to name a few\, are all reviewed and updated to reflect evolving state laws and best practices. \nBrian and Susan will review a sample table of contents to help schools ensure that they are covering all the policies that generally apply to independent schools. \nProgram\nWebinar – 1:00 p.m. to 2:00 p.m. ET \nCost\nThis event is being offered as a free education session. \nLocation\nWebinar \n \n \nBrian B. Garrett\nOf Counsel\, McLane Middleton\nVice Chair of the firm’s Education Law Group \nBrian has extensive experience in a broad range of education\, employment\, and complex commercial litigation matters throughout the country\, including in state and federal courts\, in alternative resolution processes\, and before various administrative agencies. Brian focuses his practice on understanding and serving the needs of independent day and boarding schools\, colleges and universities\, and early child care programs. Brian partners with many of the country’s leading independent schools to provide comprehensive advice on all aspects of school operations\, including establishing new schools\, student and parent issues\, employment matters\, school governance and leadership\, and general risk management. He works closely with board chairs\, heads of schools\, financial officers\, and other senior leadership members in tackling complex matters affecting school communities. \n \nSusan E. Schorr\nOf Counsel\, McLane Middleton\nVice Chair of the firm’s Education Law Group \nSusan focuses her practice on education and employment\, helping clients with general risk management\, real-time problem solving\, and crisis management. Grounded in thorough legal analysis\, she offers practical advice and responsiveness. With a background as a social worker\, public administrator\, and a trustee of non-profit organizations herself\, Susan approaches client challenges with an ability to integrate a variety of problem-solving frameworks\, helping clients to arrive at practical solutions.
URL:https://www.mclane.com/event/student-handbooks-essential-updates-for-the-new-school-year/
LOCATION:Webinar\, Webinar
CATEGORIES:webinar
ATTACH;FMTTYPE=image/jpeg:https://www.mclane.com/wp-content/uploads/Events-Featured-Image-Webinar.jpg
ORGANIZER;CN="Marketing":MAILTO:marketing@mclane.com
END:VEVENT
BEGIN:VEVENT
DTSTART;TZID=America/New_York:20220505T073000
DTEND;TZID=America/New_York:20220505T090000
DTSTAMP:20260421T031104
CREATED:20220415T141755Z
LAST-MODIFIED:20220415T142121Z
UID:12521-1651735800-1651741200@www.mclane.com
SUMMARY:So You Want to Sell Your Business...Now What?
DESCRIPTION:After a 2+ year hiatus due to COVID-19\, we are excited to announce the return of our in-person seminar series in our Woburn office! \nMost business owners come to a point where they want or need to make a transition. Some may have built the business in anticipation of a sale\, while others may be approaching retirement without a succession plan. Either way\, the owner is likely to consider selling to a third party. \nNow what? \nOur panel of expert business advisors will be on hand to discuss the process of preparing for and executing a business sale. They will share their experiences\, answer your burning questions and discuss the following key topics: \n\nWhat key advisors should I have on my team and how do they work together?\nWhat can I do to prepare my business for sale?\nHow much is my business worth? What can I do to enhance its value?\nWho would be interested in buying my business and how do I find them?\nWhat are the key business terms in a sale transaction?\nHow can the structure of the transaction impact the financial outcome to both the buyer and the seller?\nWhat is due diligence and how can I prepare for it? What are some common pitfalls/why do deals fall apart in diligence?\nWhat are “representations and warranties”?\nHow long will it take to close the deal?\nWhat happens after closing?\nWhat can I expect my role to be after the transaction?\n\nProgram\nRegistration/Networking: 7:30 a.m.\nProgram: 8:00 to 9:00 a.m. \nCost\nThis event is being offered as a free education session. \nLocation\nMcLane Middleton’s Woburn Office\n300 TradeCenter\, Suite 7600\nWoburn\, MA 01801 \n \nModerator \n\nJohn D. Colucci\nDirector\, McLane Middleton \nJohn has a dual background as both an attorney and CPA. This unique skill set gives him a differentiating perspective and depth of understanding of the legal issues necessary for protecting a growing business\, as well as the financial drivers of operating and sustaining a successful company. John’s ability to communicate complex legal and business issues clearly\, concisely and simply is a hallmark of his work\, as is his easy manner\, yet no-nonsense style in effectively managing business and legal matters for his clients. John has extensive experience in all areas of commercial transactions and business operations\, and practices in the areas of mergers and acquisitions\, business law\, and business succession planning. \nPanelists \n\nKimberly A. Kramer\nDirector\, McLane Middleton \nKim represents entrepreneurs\, closely held and family owned businesses in transactional matters ranging from entity selection and formation to drafting and negotiation of shareholder and operating agreements and other complex contracts including distribution\, joint venture and licensing agreements. She is experienced in asset and stock sales including the successful transfer of ownership to third parties\, the next generation and key employees. She also represents companies in convertible debt\, private equity and venture financing transactions. \n\nMike Kent\nManaging Director\, BellMark Partners\, LLC \nMike Kent is a Managing Director at BellMark Partners\, LLC and is primarily responsible for originating and executing investment banking assignments for the firm. With more than 20 years of investment banking experience\, Mike has completed a range of transactions across business services\, healthcare\, consumer and industrial industries. Mike’s expertise includes advising family- and entrepreneur-owned businesses as well as private equity-backed enterprises on a range of strategic alternatives which include mergers & acquisitions\, divestitures\, recapitalizations\, and capital raising & financings. \n\nDavid Richards\nManaging Partner\, CRR\, LLP \nAs the head of the firm’s Transaction Advisory Group\, David regularly advises his clients on the sale of their businesses\, as well as mergers\, acquisitions\, and joint ventures. David’s skillset is valuable throughout all stages of the transaction process\, and through early involvement he is able to help maximize the financial results for his clients. His tactical approach to buyer and seller due diligence enables a smooth transaction process\, with a focus on facilitating a well-organized transition for both sides. He also frequently speaks and writes on these topics and hosts transaction related seminars and workshops.
URL:https://www.mclane.com/event/so-you-want-to-sell-your-business-now-what/
LOCATION:McLane Middleton’s Woburn Office\, 300 TradeCenter\, Suite 7600\, Woburn\, MA\, 01801
CATEGORIES:Woburn Seminar
ATTACH;FMTTYPE=image/jpeg:https://www.mclane.com/wp-content/uploads/News-Featured-Image-Seminars.jpg
ORGANIZER;CN="Marketing":MAILTO:marketing@mclane.com
END:VEVENT
BEGIN:VEVENT
DTSTART;TZID=America/New_York:20220524T080000
DTEND;TZID=America/New_York:20220524T170000
DTSTAMP:20260421T031104
CREATED:20220419T182509Z
LAST-MODIFIED:20220519T174118Z
UID:12551-1653379200-1653411600@www.mclane.com
SUMMARY:2022 New Hampshire Employment Law Update
DESCRIPTION:After a 2+ year hiatus due to COVID-19\, we are excited to announce our 2022 New Hampshire Employment Law Update will take place on May 24\, 2022 at the Castleton Banquet & Conference Center in Windham\, NH. \nJoin our employment attorneys in discussing the latest trends in employment law as we prepare you to manage your workforce in the coming year. \nAgenda \n8:00 a.m.\nRegistration/Welcome \n8:30 a.m.\nNews You Can Use\nPresenters: Adam M. Hamel\, Jennifer L. Parent\, John E. Rich\, Jr. \n9:45 a.m.\nEffectively Responding To and Handling Employee Accommodation Requests\nPresenters: Linda S. Johnson and Brian B. Garrett \n10:30 a.m.\nBreak \n10:45 a.m.\nRomantic Relationships in the Workplace\nPresenter: Margaret “Peg” O’Brien \n11:15 a.m.\nWorkplace Investigations: Understanding When They Are Necessary and Demystifying the Process\nPresenter: Susan E. Schorr \n12:15 p.m.\nLunch \n1:15 p.m.\nRestrictive Covenants\nPresenter: Adam M. Hamel \n1:45 p.m.\nHR’s Role in Cybersecurity\nPresenter: Cameron G. Shilling \n2:30 p.m.\nBreak \n2:45 p.m.\nWage and Hour Update\nPresenter: Margaret “Peg” O’Brien \n3:15 p.m.\nUnderstanding and Preventing Retaliation\nPresenters: Linda S. Johnson and Jennifer L. Parent \n4:30 p.m.\nQ&A/Wrap-Up/Reception \nFor full session descriptions\, click here. \n  \nProgram\nRegistration: 8:00 a.m.\nProgram: 8:30 a.m. to 5:00 p.m. \n  \nCredits\nMcLane Middleton will be offering 6.5 HRCI and SHRM credit hours for this event. \n  \nCost\nRegistration is $150 per person\, and includes continental breakfast\, lunch\, networking reception\, electronic copies of materials\, and credits. \nPayment can be made via credit card and is fully refundable until Friday\, May 20\, 2022 at 5:00 p.m. ET. \n  \nLocation\nCastleton Banquet & Conference Center\n58 Enterprise Drive\nWindham\, NH 03087
URL:https://www.mclane.com/event/2022-new-hampshire-employment-law-update/
LOCATION:Castleton Banquet & Conference Center\, 58 Enterprise Drive\, Windham\, NH\, 03087
CATEGORIES:Employment Conference
ATTACH;FMTTYPE=image/jpeg:https://www.mclane.com/wp-content/uploads/News-Featured-Image-Seminars.jpg
ORGANIZER;CN="Marketing":MAILTO:marketing@mclane.com
END:VEVENT
END:VCALENDAR