BEGIN:VCALENDAR
VERSION:2.0
PRODID:-//McLane Middleton - ECPv6.15.18//NONSGML v1.0//EN
CALSCALE:GREGORIAN
METHOD:PUBLISH
X-ORIGINAL-URL:https://www.mclane.com
X-WR-CALDESC:Events for McLane Middleton
REFRESH-INTERVAL;VALUE=DURATION:PT1H
X-Robots-Tag:noindex
X-PUBLISHED-TTL:PT1H
BEGIN:VTIMEZONE
TZID:America/New_York
BEGIN:DAYLIGHT
TZOFFSETFROM:-0500
TZOFFSETTO:-0400
TZNAME:EDT
DTSTART:20210314T070000
END:DAYLIGHT
BEGIN:STANDARD
TZOFFSETFROM:-0400
TZOFFSETTO:-0500
TZNAME:EST
DTSTART:20211107T060000
END:STANDARD
BEGIN:DAYLIGHT
TZOFFSETFROM:-0500
TZOFFSETTO:-0400
TZNAME:EDT
DTSTART:20220313T070000
END:DAYLIGHT
BEGIN:STANDARD
TZOFFSETFROM:-0400
TZOFFSETTO:-0500
TZNAME:EST
DTSTART:20221106T060000
END:STANDARD
BEGIN:DAYLIGHT
TZOFFSETFROM:-0500
TZOFFSETTO:-0400
TZNAME:EDT
DTSTART:20230312T070000
END:DAYLIGHT
BEGIN:STANDARD
TZOFFSETFROM:-0400
TZOFFSETTO:-0500
TZNAME:EST
DTSTART:20231105T060000
END:STANDARD
END:VTIMEZONE
BEGIN:VEVENT
DTSTART;TZID=America/New_York:20220608T130000
DTEND;TZID=America/New_York:20220608T140000
DTSTAMP:20260421T012811
CREATED:20220523T201556Z
LAST-MODIFIED:20220523T201637Z
UID:12682-1654693200-1654696800@www.mclane.com
SUMMARY:An Employee Handbook Refresher Course for Independent Schools
DESCRIPTION:Independent schools had to update policies covering remote work\, sick leave\, immunizations and other protocols over the past two years thanks to the Covid-19 pandemic. \nAs our ability to cope with the pandemic evolves\, the summertime is the right time to take a fresh look at the employee and faculty handbook as a whole to make sure it reflects any updated state and federal requirements (not necessarily related to Covid)\, in addition to examining any practices at your school that may have been introduced because of the pandemic but that are here to stay. \nJoin McLane Middleton’s education attorneys Linda Johnson\, Brian Garrett\, and Susan Schorr as they walk through essential updates for employee handbooks\, including a review of behavioral standards to help ensure that interactions between colleagues and between colleagues and students are healthy and respectful. We will provide attendees with a sample table of contents to help schools ensure that they are covering all the policies that generally apply to independent schools. \nProgram\nWebinar – 1:00 p.m. to 2:00 p.m. ET \nCost\nThis event is being offered as a free education session. \nLocation\nWebinar \n \n \nLinda S. Johnson\nDirector\, McLane Middleton\nChair of the firm’s Education Law Group \nLinda focuses her practice on understanding and serving the needs of K-12 independent schools. She serves as outside legal counsel and a consultant to many of the country’s top independent day and boarding schools. She advises her clients on all aspects of school operations including employment law\, student discipline\, contracts\, fiduciary and tort law\, leadership development\, investigations\, compliance audits\, risk management\, crisis response\, and student safety. Linda consults with schools on both prevention and response to all types of educator misconduct and student on student sexual assaults. \n \nBrian B. Garrett\nOf Counsel\, McLane Middleton\nVice Chair of the firm’s Education Law Group \nBrian has extensive experience in a broad range of education\, employment\, and complex commercial litigation matters throughout the country\, including in state and federal courts\, in alternative resolution processes\, and before various administrative agencies. Brian focuses his practice on understanding and serving the needs of independent day and boarding schools\, colleges and universities\, and early child care programs. Brian partners with many of the country’s leading independent schools to provide comprehensive advice on all aspects of school operations\, including establishing new schools\, student and parent issues\, employment matters\, school governance and leadership\, and general risk management. He works closely with board chairs\, heads of schools\, financial officers\, and other senior leadership members in tackling complex matters affecting school communities. \n \nSusan E. Schorr\nOf Counsel\, McLane Middleton\nVice Chair of the firm’s Education Law Group \nSusan focuses her practice on education and employment\, helping clients with general risk management\, real-time problem solving\, and crisis management. Grounded in thorough legal analysis\, she offers practical advice and responsiveness. With a background as a social worker\, public administrator\, and a trustee of non-profit organizations herself\, Susan approaches client challenges with an ability to integrate a variety of problem-solving frameworks\, helping clients to arrive at practical solutions.
URL:https://www.mclane.com/event/an-employee-handbook-refresher-course-for-independent-schools/
LOCATION:Webinar\, Webinar
CATEGORIES:webinar
ATTACH;FMTTYPE=image/jpeg:https://www.mclane.com/wp-content/uploads/Events-Featured-Image-Webinar.jpg
ORGANIZER;CN="Marketing":MAILTO:marketing@mclane.com
END:VEVENT
END:VCALENDAR