BEGIN:VCALENDAR
VERSION:2.0
PRODID:-//McLane Middleton - ECPv6.15.18//NONSGML v1.0//EN
CALSCALE:GREGORIAN
METHOD:PUBLISH
X-WR-CALNAME:McLane Middleton
X-ORIGINAL-URL:https://www.mclane.com
X-WR-CALDESC:Events for McLane Middleton
REFRESH-INTERVAL;VALUE=DURATION:PT1H
X-Robots-Tag:noindex
X-PUBLISHED-TTL:PT1H
BEGIN:VTIMEZONE
TZID:America/New_York
BEGIN:DAYLIGHT
TZOFFSETFROM:-0500
TZOFFSETTO:-0400
TZNAME:EDT
DTSTART:20220313T070000
END:DAYLIGHT
BEGIN:STANDARD
TZOFFSETFROM:-0400
TZOFFSETTO:-0500
TZNAME:EST
DTSTART:20221106T060000
END:STANDARD
BEGIN:DAYLIGHT
TZOFFSETFROM:-0500
TZOFFSETTO:-0400
TZNAME:EDT
DTSTART:20230312T070000
END:DAYLIGHT
BEGIN:STANDARD
TZOFFSETFROM:-0400
TZOFFSETTO:-0500
TZNAME:EST
DTSTART:20231105T060000
END:STANDARD
BEGIN:DAYLIGHT
TZOFFSETFROM:-0500
TZOFFSETTO:-0400
TZNAME:EDT
DTSTART:20240310T070000
END:DAYLIGHT
BEGIN:STANDARD
TZOFFSETFROM:-0400
TZOFFSETTO:-0500
TZNAME:EST
DTSTART:20241103T060000
END:STANDARD
END:VTIMEZONE
BEGIN:VEVENT
DTSTART;TZID=America/New_York:20230913T073000
DTEND;TZID=America/New_York:20230913T090000
DTSTAMP:20260420T074306
CREATED:20230818T122356Z
LAST-MODIFIED:20230818T141449Z
UID:14743-1694590200-1694595600@www.mclane.com
SUMMARY:Impacts of Post-Covid Office Space Market on Owners\, Tenants\, and Lenders
DESCRIPTION:The post-Covid period has been marked by a sharp decline in the office space market. Demand is down\, vacancies are up\, and many landlords have been forced to lower rents below what they would have offered before the pandemic. However\, many of these owners either bought or re-financed their properties relying on rent expectations that might be out of date now. How will this affect the office space market and their lenders? This seminar will address these concerns and address thoughts on what this means for owners\, tenants\, and lenders going forward.\n\n\n  \nConfirmed speakers include:\n\nJohn Weaver\, Director\, McLane Middleton\, who will serve as moderator\nDavid Gilkie\, Senior Vice President\, R.W. Holmes\nChristopher Guthrie\, Senior Vice President\, Bank of America\nJason Solomon\, Vice President\, Eastern Bank
URL:https://www.mclane.com/event/impacts-of-post-covid-office-space-market-on-owners-tenants-and-lenders/
LOCATION:McLane Middleton’s Woburn Office\, 300 TradeCenter\, Suite 7600\, Woburn\, MA\, 01801
CATEGORIES:Woburn Seminar
ATTACH;FMTTYPE=image/jpeg:https://www.mclane.com/wp-content/uploads/News-Featured-Image-Seminars.jpg
END:VEVENT
BEGIN:VEVENT
DTSTART;TZID=America/New_York:20230926T073000
DTEND;TZID=America/New_York:20230926T090000
DTSTAMP:20260420T074306
CREATED:20230908T150126Z
LAST-MODIFIED:20230908T150739Z
UID:14842-1695713400-1695718800@www.mclane.com
SUMMARY:What's New in Estate Planning?
DESCRIPTION:What is the best way to protect my assets? How do I set up my family for the future? These questions and more are asked everyday to estate planners. Join attorneys Ryan J. Swartz and Caitlin G. McCurdy as they discuss changes and updates in the estate planning arena\, recent cases involving the IRS\, and the gift tax landscape moving forward. Learn the best strategies for asset protection\, setting up trusts\, and other advanced planning techniques.
URL:https://www.mclane.com/event/whats-new-in-estate-planning/
LOCATION:McLane Middleton’s Woburn Office\, 300 TradeCenter\, Suite 7600\, Woburn\, MA\, 01801
CATEGORIES:Woburn Seminar
ATTACH;FMTTYPE=image/jpeg:https://www.mclane.com/wp-content/uploads/News-Featured-Image-Seminars.jpg
ORGANIZER;CN="Marketing":MAILTO:marketing@mclane.com
END:VEVENT
END:VCALENDAR